BEGIN:VCALENDAR
VERSION:2.0
PRODID:-//Graduate Programs - ECPv5.16.4//NONSGML v1.0//EN
CALSCALE:GREGORIAN
METHOD:PUBLISH
X-WR-CALNAME:Graduate Programs
X-ORIGINAL-URL:https://graduate.northeastern.edu
X-WR-CALDESC:Events for Graduate Programs
BEGIN:VTIMEZONE
TZID:UTC
BEGIN:STANDARD
TZOFFSETFROM:+0000
TZOFFSETTO:+0000
TZNAME:UTC
DTSTART:20240101T000000
END:STANDARD
TZID:UTC
BEGIN:STANDARD
TZOFFSETFROM:+0000
TZOFFSETTO:+0000
TZNAME:UTC
DTSTART:20240101T000000
END:STANDARD
END:VTIMEZONE
BEGIN:VEVENT
DTSTART;TZID=UTC:20240222T180000
DTEND;TZID=UTC:20240222T193000
DTSTAMP:20240222T083346
CREATED:20240104T173416Z
LAST-MODIFIED:20240215T172120Z
UID:14185-1708624800-1708630200@graduate.northeastern.edu
SUMMARY:Break into Tech—Seattle
DESCRIPTION:Attend a Break into Tech Event \nWondering if Align is right for you? Find out while you explore the field of computer science in an active workshop. Designed for students with diverse non-computer science backgrounds\, this free 1.5-hour program is available in-person or virtually. Learn More. \n6-7:30 PM PT
URL:https://graduate.northeastern.edu/event/break-into-tech-seattle-3/
LOCATION:Northeastern University Seattle\, 225 Terry Ave North\, Seattle\, WA\, 98109\, United States
CATEGORIES:In-Person
END:VEVENT
BEGIN:VEVENT
DTSTART;TZID=UTC:20240228T190000
DTEND;TZID=UTC:20240228T200000
DTSTAMP:20240222T083346
CREATED:20240213T152701Z
LAST-MODIFIED:20240213T152701Z
UID:14313-1709146800-1709150400@graduate.northeastern.edu
SUMMARY:Elevate Your Future: Discover Northeastern's Graduate School of Education Master’s Programs
DESCRIPTION:Unlock the doors to your academic and professional potential by joining us for a discussion that will introduce you to our range of master’s and certificate programs. Whether you want to advance your career\, pursue a passion\, or seek new opportunities\, our graduate programs provide a pathway to excellence.
URL:https://graduate.northeastern.edu/event/elevate-your-future-discover-northeasterns-graduate-school-of-education-masters-programs/
LOCATION:Online
CATEGORIES:Online
END:VEVENT
END:VCALENDAR