BEGIN:VCALENDAR
VERSION:2.0
PRODID:-//Northeastern University Graduate Programs - ECPv6.15.19//NONSGML v1.0//EN
CALSCALE:GREGORIAN
METHOD:PUBLISH
X-WR-CALNAME:Northeastern University Graduate Programs
X-ORIGINAL-URL:https://graduate.northeastern.edu
X-WR-CALDESC:Events for Northeastern University Graduate Programs
REFRESH-INTERVAL;VALUE=DURATION:PT1H
X-Robots-Tag:noindex
X-PUBLISHED-TTL:PT1H
BEGIN:VTIMEZONE
TZID:America/New_York
BEGIN:DAYLIGHT
TZOFFSETFROM:-0500
TZOFFSETTO:-0400
TZNAME:EDT
DTSTART:20250309T070000
END:DAYLIGHT
BEGIN:STANDARD
TZOFFSETFROM:-0400
TZOFFSETTO:-0500
TZNAME:EST
DTSTART:20251102T060000
END:STANDARD
BEGIN:DAYLIGHT
TZOFFSETFROM:-0500
TZOFFSETTO:-0400
TZNAME:EDT
DTSTART:20260308T070000
END:DAYLIGHT
BEGIN:STANDARD
TZOFFSETFROM:-0400
TZOFFSETTO:-0500
TZNAME:EST
DTSTART:20261101T060000
END:STANDARD
BEGIN:DAYLIGHT
TZOFFSETFROM:-0500
TZOFFSETTO:-0400
TZNAME:EDT
DTSTART:20270314T070000
END:DAYLIGHT
BEGIN:STANDARD
TZOFFSETFROM:-0400
TZOFFSETTO:-0500
TZNAME:EST
DTSTART:20271107T060000
END:STANDARD
END:VTIMEZONE
BEGIN:VTIMEZONE
TZID:America/Los_Angeles
BEGIN:DAYLIGHT
TZOFFSETFROM:-0800
TZOFFSETTO:-0700
TZNAME:PDT
DTSTART:20250309T100000
END:DAYLIGHT
BEGIN:STANDARD
TZOFFSETFROM:-0700
TZOFFSETTO:-0800
TZNAME:PST
DTSTART:20251102T090000
END:STANDARD
BEGIN:DAYLIGHT
TZOFFSETFROM:-0800
TZOFFSETTO:-0700
TZNAME:PDT
DTSTART:20260308T100000
END:DAYLIGHT
BEGIN:STANDARD
TZOFFSETFROM:-0700
TZOFFSETTO:-0800
TZNAME:PST
DTSTART:20261101T090000
END:STANDARD
BEGIN:DAYLIGHT
TZOFFSETFROM:-0800
TZOFFSETTO:-0700
TZNAME:PDT
DTSTART:20270314T100000
END:DAYLIGHT
BEGIN:STANDARD
TZOFFSETFROM:-0700
TZOFFSETTO:-0800
TZNAME:PST
DTSTART:20271107T090000
END:STANDARD
END:VTIMEZONE
BEGIN:VEVENT
DTSTART;TZID=America/New_York:20260110T100000
DTEND;TZID=America/New_York:20260110T130000
DTSTAMP:20260420T005506
CREATED:20260105T203119Z
LAST-MODIFIED:20260105T203151Z
UID:10000699-1768039200-1768050000@graduate.northeastern.edu
SUMMARY:Graduate Accounting Immersion Day
DESCRIPTION:Are you thinking about a future in accounting? We’d love to show you what that could look like at the D’Amore-McKim School of Business. \nJoin us for a half-day\, on-campus event designed to give you a true preview of the student experience in our graduate accounting programs. You’ll meet faculty\, current students\, and alumni—and get a firsthand look at how our programs are structured to support your goals\, whether you’re aiming to meet CPA requirements or build strategies to thrive in the classroom. \nHere’s what to expect: \n\nEngaging conversations with faculty about curriculum and career pathways\nLunch and panel discussions with current students and recent alumni\nNetworking opportunities with alumni working at top Boston firms like BDO\, Deloitte\, EY\, KPMG\, and PwC\nYou’ll leave with a clearer sense of how D’Amore-McKim can help launch your accounting career—and why our community is such a powerful part of that journey.
URL:https://graduate.northeastern.edu/events/graduate-accounting-immersion-day/
LOCATION:Northeastern University Boston\, 440 Huntington Ave\, Boston\, MA\, 02215\, United States
CATEGORIES:Boston, MA,Business
END:VEVENT
BEGIN:VEVENT
DTSTART;TZID=America/Los_Angeles:20260120T070000
DTEND;TZID=America/Los_Angeles:20260120T080000
DTSTAMP:20260420T005506
CREATED:20250826T154059Z
LAST-MODIFIED:20250826T154152Z
UID:10000541-1768892400-1768896000@graduate.northeastern.edu
SUMMARY:Vancouver Campus Highlights
DESCRIPTION:Join our enrollment team for a presentation about the academic\, extracurricular\, and professional resources available at Northeastern in Vancouver. The session includes time for any questions you have about enrolling and studying at our campus.
URL:https://graduate.northeastern.edu/events/vancouver-campus-highlights/2026-01-20/
LOCATION:Online
CATEGORIES:Vancouver, BC
END:VEVENT
BEGIN:VEVENT
DTSTART;TZID=America/New_York:20260120T120000
DTEND;TZID=America/New_York:20260120T130000
DTSTAMP:20260420T005506
CREATED:20250818T161615Z
LAST-MODIFIED:20260318T192033Z
UID:10000485-1768910400-1768914000@graduate.northeastern.edu
SUMMARY:Life in Miami: Housing\, Community\, and More
DESCRIPTION:Join our enrollment team for a presentation about the academic\, extracurricular\, and professional resources available at Northeastern in Miami. The session includes time for any questions you have about enrolling and studying at our campus.
URL:https://graduate.northeastern.edu/events/miami-campus-highlights/2026-01-20/
LOCATION:Online
CATEGORIES:Miami, FL
END:VEVENT
BEGIN:VEVENT
DTSTART;TZID=America/Los_Angeles:20260120T160000
DTEND;TZID=America/Los_Angeles:20260120T170000
DTSTAMP:20260420T005506
CREATED:20250822T151846Z
LAST-MODIFIED:20250822T151855Z
UID:10000506-1768924800-1768928400@graduate.northeastern.edu
SUMMARY:Oakland Campus Highlights
DESCRIPTION:Join our enrollment team for a presentation about the academic\, extracurricular\, and professional resources available at Northeastern in Oakland. The session includes time for any questions you have about enrolling and studying at our campus.
URL:https://graduate.northeastern.edu/events/oakland-campus-highlights/2026-01-20/
LOCATION:Online
CATEGORIES:Oakland, CA
END:VEVENT
BEGIN:VEVENT
DTSTART;TZID=America/Los_Angeles:20260120T170000
DTEND;TZID=America/Los_Angeles:20260120T180000
DTSTAMP:20260420T005506
CREATED:20250813T131458Z
LAST-MODIFIED:20260318T144726Z
UID:10000461-1768928400-1768932000@graduate.northeastern.edu
SUMMARY:Life in Seattle: Housing\, Community\, and More
DESCRIPTION:Join our enrollment team for a presentation about the academic\, extracurricular\, and professional resources available at Northeastern in Seattle. The session includes time for any questions you have about enrolling and studying at our campus.
URL:https://graduate.northeastern.edu/events/seattle-campus-highlights/2026-01-20/
LOCATION:Online
CATEGORIES:Seattle, WA
END:VEVENT
BEGIN:VEVENT
DTSTART;TZID=America/New_York:20260121T120000
DTEND;TZID=America/New_York:20260121T130000
DTSTAMP:20260420T005506
CREATED:20251213T173116Z
LAST-MODIFIED:20251213T173116Z
UID:10000675-1768996800-1769000400@graduate.northeastern.edu
SUMMARY:Doctor of Pharmacy Information Webinars—Boston
DESCRIPTION:The Doctor of Pharmacy program at Northeastern University is a robust\, six-year program that trains the next generation of leaders in the field. The program prepares graduates for the present and future pharmacy\, as well as the advancement of the profession\, by providing a strong foundation in science and practice that stresses integration and application.
URL:https://graduate.northeastern.edu/events/doctor-of-pharmacy-information-webinars-boston/2026-01-21/
LOCATION:Online
CATEGORIES:Boston, MA,Pharmacy & Pharmaceutical Sciences
END:VEVENT
BEGIN:VEVENT
DTSTART;TZID=America/New_York:20260121T170000
DTEND;TZID=America/New_York:20260121T180000
DTSTAMP:20260420T005506
CREATED:20250815T203450Z
LAST-MODIFIED:20260313T175319Z
UID:10000473-1769014800-1769018400@graduate.northeastern.edu
SUMMARY:Life in Arlington: Housing\, Community\, and More
DESCRIPTION:Join our enrollment team for a presentation about the academic\, extracurricular\, and professional resources available at Northeastern in Arlington. The session includes time for any questions you have about enrolling and studying at our campus.
URL:https://graduate.northeastern.edu/events/arlington-campus-highlights/2026-01-21/
LOCATION:Online
CATEGORIES:Arlington, VA
END:VEVENT
BEGIN:VEVENT
DTSTART;TZID=America/Los_Angeles:20260122T090000
DTEND;TZID=America/Los_Angeles:20260122T100000
DTSTAMP:20260420T005506
CREATED:20250822T153336Z
LAST-MODIFIED:20250822T153336Z
UID:10000511-1769072400-1769076000@graduate.northeastern.edu
SUMMARY:Silicon Valley Campus Highlights
DESCRIPTION:Join our enrollment team for a presentation about the academic\, extracurricular\, and professional resources available at Northeastern in Silicon Valley. The session includes time for any questions you have about enrolling and studying at our campus.
URL:https://graduate.northeastern.edu/events/silicon-valley-campus-highlights/2026-01-22/
LOCATION:Online
CATEGORIES:Silicon Valley, CA
END:VEVENT
BEGIN:VEVENT
DTSTART;TZID=America/New_York:20260122T100000
DTEND;TZID=America/New_York:20260122T110000
DTSTAMP:20260420T005506
CREATED:20250812T201358Z
LAST-MODIFIED:20260330T174647Z
UID:10000456-1769076000-1769079600@graduate.northeastern.edu
SUMMARY:Life in Toronto: Housing\, Community\, and More
DESCRIPTION:Let’s talk logistics: What do you need to know before you decide to move to Toronto? We’ll discuss housing\, transit\, and what it’s like to be a local here. This session will also introduce you to some of the social life on campus and student support services that Northeastern provides.
URL:https://graduate.northeastern.edu/events/toronto-campus-highlights/2026-01-22/
LOCATION:Online
CATEGORIES:Toronto, ON
END:VEVENT
BEGIN:VEVENT
DTSTART;TZID=America/New_York:20260122T160000
DTEND;TZID=America/New_York:20260122T170000
DTSTAMP:20260420T005506
CREATED:20250825T132238Z
LAST-MODIFIED:20250825T132402Z
UID:10000530-1769097600-1769101200@graduate.northeastern.edu
SUMMARY:Charlotte Campus Highlights
DESCRIPTION:Join our enrollment team for a presentation about the academic\, extracurricular\, and professional resources available at Northeastern in Charlotte. The session includes time for any questions you have about enrolling and studying at our campus.
URL:https://graduate.northeastern.edu/events/charlotte-campus-highlights/2026-01-22/
LOCATION:Online
CATEGORIES:Charlotte, NC
END:VEVENT
END:VCALENDAR