BEGIN:VCALENDAR
VERSION:2.0
PRODID:-//Northeastern University Graduate Programs - ECPv6.15.19//NONSGML v1.0//EN
CALSCALE:GREGORIAN
METHOD:PUBLISH
X-WR-CALNAME:Northeastern University Graduate Programs
X-ORIGINAL-URL:https://graduate.northeastern.edu
X-WR-CALDESC:Events for Northeastern University Graduate Programs
REFRESH-INTERVAL;VALUE=DURATION:PT1H
X-Robots-Tag:noindex
X-PUBLISHED-TTL:PT1H
BEGIN:VTIMEZONE
TZID:America/Los_Angeles
BEGIN:DAYLIGHT
TZOFFSETFROM:-0800
TZOFFSETTO:-0700
TZNAME:PDT
DTSTART:20250309T100000
END:DAYLIGHT
BEGIN:STANDARD
TZOFFSETFROM:-0700
TZOFFSETTO:-0800
TZNAME:PST
DTSTART:20251102T090000
END:STANDARD
BEGIN:DAYLIGHT
TZOFFSETFROM:-0800
TZOFFSETTO:-0700
TZNAME:PDT
DTSTART:20260308T100000
END:DAYLIGHT
BEGIN:STANDARD
TZOFFSETFROM:-0700
TZOFFSETTO:-0800
TZNAME:PST
DTSTART:20261101T090000
END:STANDARD
BEGIN:DAYLIGHT
TZOFFSETFROM:-0800
TZOFFSETTO:-0700
TZNAME:PDT
DTSTART:20270314T100000
END:DAYLIGHT
BEGIN:STANDARD
TZOFFSETFROM:-0700
TZOFFSETTO:-0800
TZNAME:PST
DTSTART:20271107T090000
END:STANDARD
END:VTIMEZONE
BEGIN:VTIMEZONE
TZID:America/New_York
BEGIN:DAYLIGHT
TZOFFSETFROM:-0500
TZOFFSETTO:-0400
TZNAME:EDT
DTSTART:20250309T070000
END:DAYLIGHT
BEGIN:STANDARD
TZOFFSETFROM:-0400
TZOFFSETTO:-0500
TZNAME:EST
DTSTART:20251102T060000
END:STANDARD
BEGIN:DAYLIGHT
TZOFFSETFROM:-0500
TZOFFSETTO:-0400
TZNAME:EDT
DTSTART:20260308T070000
END:DAYLIGHT
BEGIN:STANDARD
TZOFFSETFROM:-0400
TZOFFSETTO:-0500
TZNAME:EST
DTSTART:20261101T060000
END:STANDARD
BEGIN:DAYLIGHT
TZOFFSETFROM:-0500
TZOFFSETTO:-0400
TZNAME:EDT
DTSTART:20270314T070000
END:DAYLIGHT
BEGIN:STANDARD
TZOFFSETFROM:-0400
TZOFFSETTO:-0500
TZNAME:EST
DTSTART:20271107T060000
END:STANDARD
END:VTIMEZONE
BEGIN:VEVENT
DTSTART;TZID=America/Los_Angeles:20260202T090000
DTEND;TZID=America/Los_Angeles:20260202T100000
DTSTAMP:20260420T000342
CREATED:20250822T152954Z
LAST-MODIFIED:20250822T152954Z
UID:10000509-1770022800-1770026400@graduate.northeastern.edu
SUMMARY:Campus Conversations: Silicon Valley
DESCRIPTION:Each event in this series features a different guest from our campus. You’ll hear from current students\, faculty\, resource team members\, and more. Check the campus website for the latest information about featured guests.
URL:https://graduate.northeastern.edu/events/campus-conversations-silicon-valley/2026-02-02/
LOCATION:Online
CATEGORIES:Silicon Valley, CA
END:VEVENT
BEGIN:VEVENT
DTSTART;TZID=America/Los_Angeles:20260202T160000
DTEND;TZID=America/Los_Angeles:20260202T170000
DTSTAMP:20260420T000342
CREATED:20250813T131101Z
LAST-MODIFIED:20260122T170239Z
UID:10000459-1770048000-1770051600@graduate.northeastern.edu
SUMMARY:Campus Conversations: Seattle
DESCRIPTION:Each event in this series features a different guest from our campus. You’ll hear from current students\, faculty\, resource team members\, and more. Check the campus website for the latest information about featured guests.
URL:https://graduate.northeastern.edu/events/campus-conversations-seattle/2026-02-02/
LOCATION:Online
CATEGORIES:Seattle, WA
END:VEVENT
BEGIN:VEVENT
DTSTART;TZID=America/Los_Angeles:20260203T080000
DTEND;TZID=America/Los_Angeles:20260203T090000
DTSTAMP:20260420T000342
CREATED:20250822T151556Z
LAST-MODIFIED:20250822T151556Z
UID:10000504-1770105600-1770109200@graduate.northeastern.edu
SUMMARY:Campus Conversations: Oakland
DESCRIPTION:Each event in this series features a different guest from our campus. You’ll hear from current students\, faculty\, resource team members\, and more. Check the campus website for the latest information about featured guests.
URL:https://graduate.northeastern.edu/events/campus-conversations-oakland/2026-02-03/
LOCATION:Online
CATEGORIES:Oakland, CA
END:VEVENT
BEGIN:VEVENT
DTSTART;TZID=America/New_York:20260203T170000
DTEND;TZID=America/New_York:20260203T180000
DTSTAMP:20260420T000342
CREATED:20250815T203014Z
LAST-MODIFIED:20250815T203632Z
UID:10000471-1770138000-1770141600@graduate.northeastern.edu
SUMMARY:Campus Conversations: Arlington
DESCRIPTION:Each event in this series features a different guest from our campus. You’ll hear from current students\, faculty\, resource team members\, and more. Check the campus website for the latest information about featured guests.
URL:https://graduate.northeastern.edu/events/campus-conversations-arlington/2026-02-03/
LOCATION:Online
CATEGORIES:Arlington, VA
END:VEVENT
BEGIN:VEVENT
DTSTART;TZID=America/Los_Angeles:20260203T190000
DTEND;TZID=America/Los_Angeles:20260203T200000
DTSTAMP:20260420T000342
CREATED:20250826T144629Z
LAST-MODIFIED:20250826T144658Z
UID:10000537-1770145200-1770148800@graduate.northeastern.edu
SUMMARY:Campus Conversations: Vancouver
DESCRIPTION:Each event in this series features a different guest from our campus. You’ll hear from current students\, faculty\, resource team members\, and more. Check the campus website for the latest information about featured guests.
URL:https://graduate.northeastern.edu/events/campus-conversations-vancouver-3/2026-02-03/
LOCATION:Online
CATEGORIES:Vancouver, BC
END:VEVENT
BEGIN:VEVENT
DTSTART;TZID=America/New_York:20260205T100000
DTEND;TZID=America/New_York:20260205T110000
DTSTAMP:20260420T000342
CREATED:20250812T200407Z
LAST-MODIFIED:20260126T193918Z
UID:10000454-1770285600-1770289200@graduate.northeastern.edu
SUMMARY:Campus Conversations: Toronto
DESCRIPTION:Each event in this series features a different guest from our campus. You’ll hear from current students\, faculty\, resource team members\, and more. Check the campus website for the latest information about featured guests.
URL:https://graduate.northeastern.edu/events/campus-conversations-toronto/2026-02-05/
LOCATION:Online
CATEGORIES:Toronto, ON
END:VEVENT
BEGIN:VEVENT
DTSTART;TZID=America/New_York:20260205T160000
DTEND;TZID=America/New_York:20260205T170000
DTSTAMP:20260420T000342
CREATED:20250825T131948Z
LAST-MODIFIED:20250825T132024Z
UID:10000526-1770307200-1770310800@graduate.northeastern.edu
SUMMARY:Campus Conversations: Charlotte
DESCRIPTION:Each event in this series features a different guest from our campus. You’ll hear from current students\, faculty\, resource team members\, and more. Check the campus website for the latest information about featured guests.
URL:https://graduate.northeastern.edu/events/campus-conversations-charlotte/2026-02-05/
LOCATION:Online
CATEGORIES:Charlotte, NC
END:VEVENT
BEGIN:VEVENT
DTSTART;TZID=America/New_York:20260207T100000
DTEND;TZID=America/New_York:20260207T140000
DTSTAMP:20260420T000342
CREATED:20260121T135421Z
LAST-MODIFIED:20260121T135503Z
UID:10000744-1770458400-1770472800@graduate.northeastern.edu
SUMMARY:Portland Roux Institute Grad School Discovery Day
DESCRIPTION:Join faculty\, students\, enrollment counselors\, and financial advisors for a full day of events. Our graduate programs are building a talent pipeline and driving innovation at the intersection of tech\, data\, and the advanced life sciences—and we want you to be part of it.
URL:https://graduate.northeastern.edu/events/portland-roux-institute-grad-school-discovery-day/
LOCATION:Northeastern University Portland\, 100 Fore Street\, Portland\, ME\, 04101\, United States
CATEGORIES:Portland, ME
END:VEVENT
BEGIN:VEVENT
DTSTART;TZID=America/New_York:20260211T163000
DTEND;TZID=America/New_York:20260211T203000
DTSTAMP:20260420T000342
CREATED:20260114T155210Z
LAST-MODIFIED:20260114T184152Z
UID:10000727-1770827400-1770841800@graduate.northeastern.edu
SUMMARY:Access MBA Boston
DESCRIPTION:Join us at Access MBA\, where you can explore business school options and find the program that best aligns with your career goals. This is your chance to speak directly with representatives from leading business schools\, gain application insights\, and more! \nMeet with Director of Graduate Admissions\, Dena Synder\, to learn how Northeastern University’s D’Amore-McKim MBA programs equip you with the knowledge and capabilities required to lead in our data-driven\, digital-first economy. Join us to explore the value of an MBA and how earning an advanced degree can help you achieve your career goals. \nThis event is free to register and attend.
URL:https://graduate.northeastern.edu/events/access-mba-boston/
LOCATION:Revere Hotel Boston Common\, 200 Stuart St\, Boston\, MA\, 02116\, United States
CATEGORIES:Boston, MA,Business
END:VEVENT
BEGIN:VEVENT
DTSTART;TZID=America/New_York:20260212T043000
DTEND;TZID=America/New_York:20260212T203000
DTSTAMP:20260420T000343
CREATED:20260114T155826Z
LAST-MODIFIED:20260114T184138Z
UID:10000728-1770870600-1770928200@graduate.northeastern.edu
SUMMARY:Access Masters Boston
DESCRIPTION:Join us at Access Masters\, where you can explore business school options and find the program that best aligns with your career goals. This is your chance to speak directly with representatives from leading business schools\, gain application insights\, and more! \nMeet with Assistant Director of Graduate Admissions\, Elizabeth Nersinger\, to learn how Northeastern University’s D’Amore-McKim MS programs equip you with the knowledge and capabilities required to lead in our data-driven\, digital-first economy. Join us to explore the value of a master’s degree and how earning an advanced degree can help you achieve your career goals. \nThis event is free to register and attend.
URL:https://graduate.northeastern.edu/events/access-masters-boston/
LOCATION:Revere Hotel Boston Common\, 200 Stuart St\, Boston\, MA\, 02116\, United States
CATEGORIES:Boston, MA,Business
END:VEVENT
BEGIN:VEVENT
DTSTART;TZID=America/New_York:20260217T120000
DTEND;TZID=America/New_York:20260217T130000
DTSTAMP:20260420T000343
CREATED:20250818T161243Z
LAST-MODIFIED:20250818T161340Z
UID:10000483-1771329600-1771333200@graduate.northeastern.edu
SUMMARY:Campus Conversations: Miami
DESCRIPTION:Each event in this series features a different guest from our campus. You’ll hear from current students\, faculty\, resource team members\, and more. Check the campus website for the latest information about featured guests.
URL:https://graduate.northeastern.edu/events/campus-conversations-miami/2026-02-17/
LOCATION:Online
CATEGORIES:Miami, FL
END:VEVENT
BEGIN:VEVENT
DTSTART;TZID=America/New_York:20260217T160000
DTEND;TZID=America/New_York:20260217T170000
DTSTAMP:20260420T000343
CREATED:20251213T173116Z
LAST-MODIFIED:20251213T173116Z
UID:10000676-1771344000-1771347600@graduate.northeastern.edu
SUMMARY:Doctor of Pharmacy Information Webinars—Boston
DESCRIPTION:The Doctor of Pharmacy program at Northeastern University is a robust\, six-year program that trains the next generation of leaders in the field. The program prepares graduates for the present and future pharmacy\, as well as the advancement of the profession\, by providing a strong foundation in science and practice that stresses integration and application.
URL:https://graduate.northeastern.edu/events/doctor-of-pharmacy-information-webinars-boston/2026-02-17/
LOCATION:Online
CATEGORIES:Boston, MA,Pharmacy & Pharmaceutical Sciences
END:VEVENT
END:VCALENDAR